BEGIN:VCALENDAR
VERSION:2.0
PRODID:-//Vida Church Santa Maria - ECPv6.15.20//NONSGML v1.0//EN
CALSCALE:GREGORIAN
METHOD:PUBLISH
X-WR-CALNAME:Vida Church Santa Maria
X-ORIGINAL-URL:https://vcsm.org
X-WR-CALDESC:Events for Vida Church Santa Maria
REFRESH-INTERVAL;VALUE=DURATION:PT1H
X-Robots-Tag:noindex
X-PUBLISHED-TTL:PT1H
BEGIN:VTIMEZONE
TZID:America/Los_Angeles
BEGIN:DAYLIGHT
TZOFFSETFROM:-0800
TZOFFSETTO:-0700
TZNAME:PDT
DTSTART:20240310T100000
END:DAYLIGHT
BEGIN:STANDARD
TZOFFSETFROM:-0700
TZOFFSETTO:-0800
TZNAME:PST
DTSTART:20241103T090000
END:STANDARD
BEGIN:DAYLIGHT
TZOFFSETFROM:-0800
TZOFFSETTO:-0700
TZNAME:PDT
DTSTART:20250309T100000
END:DAYLIGHT
BEGIN:STANDARD
TZOFFSETFROM:-0700
TZOFFSETTO:-0800
TZNAME:PST
DTSTART:20251102T090000
END:STANDARD
BEGIN:DAYLIGHT
TZOFFSETFROM:-0800
TZOFFSETTO:-0700
TZNAME:PDT
DTSTART:20260308T100000
END:DAYLIGHT
BEGIN:STANDARD
TZOFFSETFROM:-0700
TZOFFSETTO:-0800
TZNAME:PST
DTSTART:20261101T090000
END:STANDARD
BEGIN:DAYLIGHT
TZOFFSETFROM:-0800
TZOFFSETTO:-0700
TZNAME:PDT
DTSTART:20270314T100000
END:DAYLIGHT
BEGIN:STANDARD
TZOFFSETFROM:-0700
TZOFFSETTO:-0800
TZNAME:PST
DTSTART:20271107T090000
END:STANDARD
END:VTIMEZONE
BEGIN:VEVENT
DTSTART;TZID=America/Los_Angeles:20260422T180000
DTEND;TZID=America/Los_Angeles:20260422T200000
DTSTAMP:20260425T063418
CREATED:20260325T180826Z
LAST-MODIFIED:20260325T180826Z
UID:10027852-1776880800-1776888000@vcsm.org
SUMMARY:Sesiones los Miércoles
DESCRIPTION:Reiniciamos nuestras Sesiones de los Miércoles! Las sesiones de los miércoles son clases diseñadas para ayudarnos a seguir creciendo juntos en la fe. Estas sesiones GRATUITAS de 9 semanas comienzan el Miércoles 15 de Abril y terminan el Miércoles 10 de junio\, de 6PM a 8PM. Incluye cena y cuidado de niños desde recién nacidos hasta estudiantes de la secundaria. En esta sesión presentamos el curso: “Formación: Construyendo mi vida en Cristo”. Regístrate en la Mesa de Información en el patio el domingo para reservar tu lugar.
URL:https://vcsm.org/event/sesiones-los-miercoles/2026-04-22/
LOCATION:Vida Church\, 709 N. Curryer St.\, Santa Maria\, CA\, 93458\, United States
CATEGORIES:All Church,Español,Kids,Live Up,Safari Kids,Young Adults,Youth
ATTACH;FMTTYPE=image/jpeg:https://vcsm.org/wp-content/uploads/2026/03/Sesiones-los-Miercoles-2026-scaled.jpg
END:VEVENT
BEGIN:VEVENT
DTSTART;TZID=America/Los_Angeles:20260422T180000
DTEND;TZID=America/Los_Angeles:20260422T200000
DTSTAMP:20260425T063418
CREATED:20260325T175850Z
LAST-MODIFIED:20260325T180905Z
UID:10027913-1776880800-1776888000@vcsm.org
SUMMARY:Wednesday Sessions
DESCRIPTION:We’re restarting our Wednesday Sessions! Wednesday sessions are classes designed to help us continue growing in faith together. These FREE 8-week sessions start on Wednesday\, April 15 to Wednesday\, June 3 from 6–8 PM. Dinner and childcare are included for newborns through high school students. This session features the course: “Formation: Building My Life on Christ.” Register at the Info Counter in the courtyard on Sunday to reserve your spot.
URL:https://vcsm.org/event/wednesday-sessions/2026-04-22/
LOCATION:Vida Church\, 709 N. Curryer St.\, Santa Maria\, CA\, 93458\, United States
CATEGORIES:260 Group,All Church,BeEmpowered,Español,Families,Kids,Live Up,Married Couples,Men,Safari Kids,Women,Young Adults,Youth
ATTACH;FMTTYPE=image/jpeg:https://vcsm.org/wp-content/uploads/2026/03/Wednesday-Sessions-2026-scaled.jpg
END:VEVENT
BEGIN:VEVENT
DTSTART;TZID=America/Los_Angeles:20260415T180000
DTEND;TZID=America/Los_Angeles:20260415T200000
DTSTAMP:20260425T063418
CREATED:20260325T180826Z
LAST-MODIFIED:20260325T180826Z
UID:10027851-1776276000-1776283200@vcsm.org
SUMMARY:Sesiones los Miércoles
DESCRIPTION:Reiniciamos nuestras Sesiones de los Miércoles! Las sesiones de los miércoles son clases diseñadas para ayudarnos a seguir creciendo juntos en la fe. Estas sesiones GRATUITAS de 9 semanas comienzan el Miércoles 15 de Abril y terminan el Miércoles 10 de junio\, de 6PM a 8PM. Incluye cena y cuidado de niños desde recién nacidos hasta estudiantes de la secundaria. En esta sesión presentamos el curso: “Formación: Construyendo mi vida en Cristo”. Regístrate en la Mesa de Información en el patio el domingo para reservar tu lugar.
URL:https://vcsm.org/event/sesiones-los-miercoles/2026-04-15/
LOCATION:Vida Church\, 709 N. Curryer St.\, Santa Maria\, CA\, 93458\, United States
CATEGORIES:All Church,Español,Kids,Live Up,Safari Kids,Young Adults,Youth
ATTACH;FMTTYPE=image/jpeg:https://vcsm.org/wp-content/uploads/2026/03/Sesiones-los-Miercoles-2026-scaled.jpg
END:VEVENT
BEGIN:VEVENT
DTSTART;TZID=America/Los_Angeles:20260415T180000
DTEND;TZID=America/Los_Angeles:20260415T200000
DTSTAMP:20260425T063418
CREATED:20260325T175850Z
LAST-MODIFIED:20260325T180905Z
UID:10027912-1776276000-1776283200@vcsm.org
SUMMARY:Wednesday Sessions
DESCRIPTION:We’re restarting our Wednesday Sessions! Wednesday sessions are classes designed to help us continue growing in faith together. These FREE 8-week sessions start on Wednesday\, April 15 to Wednesday\, June 3 from 6–8 PM. Dinner and childcare are included for newborns through high school students. This session features the course: “Formation: Building My Life on Christ.” Register at the Info Counter in the courtyard on Sunday to reserve your spot.
URL:https://vcsm.org/event/wednesday-sessions/2026-04-15/
LOCATION:Vida Church\, 709 N. Curryer St.\, Santa Maria\, CA\, 93458\, United States
CATEGORIES:260 Group,All Church,BeEmpowered,Español,Families,Kids,Live Up,Married Couples,Men,Safari Kids,Women,Young Adults,Youth
ATTACH;FMTTYPE=image/jpeg:https://vcsm.org/wp-content/uploads/2026/03/Wednesday-Sessions-2026-scaled.jpg
END:VEVENT
BEGIN:VEVENT
DTSTART;TZID=America/Los_Angeles:20260405T113000
DTEND;TZID=America/Los_Angeles:20260405T130000
DTSTAMP:20260425T063418
CREATED:20260310T200211Z
LAST-MODIFIED:20260310T200211Z
UID:10027756-1775388600-1775394000@vcsm.org
SUMMARY:Domingo de Resurrección
DESCRIPTION:Este Domingo de Resurrección\, el 5 de abril\, estaremos celebrando a Jesús — el Dios de lo IMPOSIBLE. \nEn Hechos 2:22–24 dice: «¡Era imposible que la muerte lo mantuviera bajo su dominio!» Porque Jesús es Señor\, muchas cosas que parecen imposibles se vuelven posibles por medio de Él. \nEl Domingo de Resurrección es una hermosa oportunidad para invitar a alguien a acompañarte\, así que comienza a orar y pídele a Dios que ponga en tu corazón a quién puedes invitar. \nNos reuniremos en tres servicios:8:00AM – Servicio Familiar en Inglés9:30AM – Servicio en Inglés con Ministerio para Niños11:30AM – Servicio en Español con Ministerio para Niños \nCada semana adoramos juntos por medio de adoración\, estudiamos la Biblia y tenemos un tiempo especial para oración personal y ministración. También contamos con excelentes ambientes para niños desde recién nacidos hasta 6.º grado\, para que toda la familia pueda ser parte de la experiencia. \nSi nos acompañas en persona\, quédate después del servicio y disfruta de nuestro donas\, café y otros deliciosos bocadillos completamente GRATIS. 🍩☕️ \nSi es tu primera vez con nosotros\, HAZ CLIC AQUÍ para conocer más sobre qué puedes esperar en nuestras reuniones\, incluyendo cómo cuidamos a los niños en nuestro ministerio Safari Kids. Nos encantará conocerte y celebrar juntos el Domingo de Resurrección!
URL:https://vcsm.org/event/domingo-de-resurreccion/
LOCATION:Vida Church\, 709 N. Curryer St.\, Santa Maria\, CA\, 93458\, United States
CATEGORIES:All Church,Español,Families,Kids,Live Up,Married Couples,Men,Prayer,Safari Kids,Women,Young Adults,Youth
ATTACH;FMTTYPE=image/jpeg:https://vcsm.org/wp-content/uploads/2026/03/2-Easter-Screen-16x9-Spanish-scaled.jpg
END:VEVENT
BEGIN:VEVENT
DTSTART;TZID=America/Los_Angeles:20260405T093000
DTEND;TZID=America/Los_Angeles:20260405T110000
DTSTAMP:20260425T063418
CREATED:20260310T195350Z
LAST-MODIFIED:20260310T195350Z
UID:10027754-1775381400-1775386800@vcsm.org
SUMMARY:Easter Service
DESCRIPTION:This Easter on April 5\, we’ll be celebrating Jesus — the God of the IMPOSSIBLE. \nIn Acts of the Apostles 2:22–24 it says\, “It was impossible for death to keep its hold on him!” Because Jesus is Lord\, so many things that seem impossible become possible through Him. \nEaster is a beautiful opportunity to invite someone to join you\, so begin praying about who God might place on your heart to invite. \nWe’ll gather for three services:8:00AM – English Family Service9:30AM – English Service with Children’s Ministry11:30AM – Spanish Service with Children’s Ministry \nEach week we worship together through song\, study the Bible\, and create space for personal prayer and ministry. We also have amazing environments for kids from birth through 6th grade\, so the whole family can be part of the experience. \nIf you’re joining us in person\, stay after the service and enjoy our extended coffee cart in the courtyard. We’ll be serving FREE donuts\, coffee and other delicious finger foods. 🍩☕️ \nIf it’s your first time with us\, CLICK HERE to learn more about what to expect at our gatherings\, including how we care for children through our Safari Kids ministry. We’d love to meet you and celebrate Easter together!
URL:https://vcsm.org/event/easter-service-2/
LOCATION:Vida Church\, 709 N. Curryer St.\, Santa Maria\, CA\, 93458\, United States
CATEGORIES:All Church,Español,Families,Kids,Live Up,Married Couples,Men,Prayer,Safari Kids,Women,Young Adults,Youth
ATTACH;FMTTYPE=image/jpeg:https://vcsm.org/wp-content/uploads/2026/03/2-Easter-Invite-16x9-English-scaled.jpg
END:VEVENT
BEGIN:VEVENT
DTSTART;TZID=America/Los_Angeles:20260405T080000
DTEND;TZID=America/Los_Angeles:20260405T090000
DTSTAMP:20260425T063418
CREATED:20260310T195307Z
LAST-MODIFIED:20260310T195307Z
UID:10027753-1775376000-1775379600@vcsm.org
SUMMARY:Easter Service
DESCRIPTION:This Easter on April 5\, we’ll be celebrating Jesus — the God of the IMPOSSIBLE. \nIn Acts of the Apostles 2:22–24 it says\, “It was impossible for death to keep its hold on him!” Because Jesus is Lord\, so many things that seem impossible become possible through Him. \nEaster is a beautiful opportunity to invite someone to join you\, so begin praying about who God might place on your heart to invite. \nWe’ll gather for three services:8:00AM – English Family Service9:30AM – English Service with Children’s Ministry11:30AM – Spanish Service with Children’s Ministry \nEach week we worship together through song\, study the Bible\, and create space for personal prayer and ministry. We also have amazing environments for kids from birth through 6th grade\, so the whole family can be part of the experience. \nIf you’re joining us in person\, stay after the service and enjoy our extended coffee cart in the courtyard. We’ll be serving FREE donuts\, coffee and other delicious finger foods. 🍩☕️ \nIf it’s your first time with us\, CLICK HERE to learn more about what to expect at our gatherings\, including how we care for children through our Safari Kids ministry. We’d love to meet you and celebrate Easter together!
URL:https://vcsm.org/event/easter-service/
LOCATION:Vida Church\, 709 N. Curryer St.\, Santa Maria\, CA\, 93458\, United States
CATEGORIES:All Church,Español,Families,Kids,Live Up,Married Couples,Men,Prayer,Safari Kids,Women,Young Adults,Youth
ATTACH;FMTTYPE=image/jpeg:https://vcsm.org/wp-content/uploads/2026/03/2-Easter-Invite-16x9-English-scaled.jpg
END:VEVENT
BEGIN:VEVENT
DTSTART;TZID=America/Los_Angeles:20260403T190000
DTEND;TZID=America/Los_Angeles:20260403T203000
DTSTAMP:20260425T063418
CREATED:20260310T201619Z
LAST-MODIFIED:20260310T201619Z
UID:10027758-1775242800-1775248200@vcsm.org
SUMMARY:Viernes Santo
DESCRIPTION:Este Viernes Santo\, te invitamos a tomar un momento para hacer una pausa y recordar el sacrificio de Jesús. \nEl viernes 3 de abril a las 7:00PM\, nos reuniremos para un servicio especial de Viernes Santo en español en el santuario de Vida Church en Santa Maria. En esta ocasión nos estaremos reuniendo junto con la iglesia\, Iglesia Cristiana Restauración\, en un servicio especial unido. \nEl Viernes Santo es un tiempo para reflexionar en la cruz\, en el amor de Cristo y en el increíble precio que Él pagó por nosotros. Juntos tomaremos un tiempo de adoración\, lectura de la Palabra y reflexión mientras preparamos nuestros corazones para la esperanza y la victoria que celebramos en Easter. \nEsperamos que puedas acompañarnos.
URL:https://vcsm.org/event/viernes-santo/
LOCATION:Vida Church\, 709 N. Curryer St.\, Santa Maria\, CA\, 93458\, United States
CATEGORIES:All Church,Español,Families,Kids,Live Up,Married Couples,Men,Prayer,Safari Kids,Women,Young Adults,Youth
END:VEVENT
BEGIN:VEVENT
DTSTART;TZID=America/Los_Angeles:20260403T120000
DTEND;TZID=America/Los_Angeles:20260403T130000
DTSTAMP:20260425T063418
CREATED:20260310T200751Z
LAST-MODIFIED:20260310T200752Z
UID:10027757-1775217600-1775221200@vcsm.org
SUMMARY:Good Friday Service
DESCRIPTION:This Good Friday\, we invite you to take a moment to pause and remember the sacrifice of Jesus. On Friday\, April 3 at 12:00 PM\, we’ll gather for a special Good Friday service in English at Pacific Christian Church in Santa Maria. \nGood Friday is a time to reflect on the cross\, the love of Christ and the incredible price He paid for us. Together we’ll spend time in worship\, Scripture and reflection as we prepare our hearts for the hope and victory we celebrate on Easter. \nWe hope you’ll join us.
URL:https://vcsm.org/event/good-friday-service/
LOCATION:Pacific Christian Center\, 3435 Santa Maria Way\, Santa Maria\, CA\, 93455\, United States
CATEGORIES:All Church,BeEmpowered,Families,Kids,Live Up,Married Couples,Men,Prayer,Safari Kids,Women,Young Adults,Youth
ATTACH;FMTTYPE=image/jpeg:https://vcsm.org/wp-content/uploads/2026/03/4-Good-Friday-Header-w-Text-1x3-1-scaled.jpg
GEO:34.8956766;-120.4236026
X-APPLE-STRUCTURED-LOCATION;VALUE=URI;X-ADDRESS=Pacific Christian Center 3435 Santa Maria Way Santa Maria CA 93455 United States;X-APPLE-RADIUS=500;X-TITLE=3435 Santa Maria Way:geo:-120.4236026,34.8956766
END:VEVENT
BEGIN:VEVENT
DTSTART;TZID=America/Los_Angeles:20260329T093000
DTEND;TZID=America/Los_Angeles:20260329T143000
DTSTAMP:20260425T063418
CREATED:20260305T012326Z
LAST-MODIFIED:20260305T012326Z
UID:10027751-1774776600-1774794600@vcsm.org
SUMMARY:Vida Sunday
DESCRIPTION:Vida means Life! And on Sunday\, March 29\, we’ll celebrate the life of Jesus and the life of our church family with ONE combined service at 9:30AM. After the service\, the celebration will continue with a Picnic on the Lawn provided by YOU – please bring a dish to share with everyone! We’ll provide all the ice-cold beverages\, hotdogs\, desserts\, and fun games for everyone to enjoy. It’s a perfect opportunity to relax\, connect and fellowship with friends! Let’s come together to celebrate life\, community and the love of Jesus! \n\nEl domingo\, 29 de marzo\, celebraremos la vida de Jesús y la vida de nuestra familia de la iglesia con un solo servicio combinado a las 9:30AM. Después del servicio\, la celebración continuará con un Picnic en el Césped que tú ayudarás a hacer especial! Por favor\, trae un platillo para compartir con todos. Nosotros proveeremos las bebidas\, perros calientes\, postres y juegos divertidos para que todos puedan disfrutar. Será la oportunidad perfecta para relajarte\, conectar y compartir con amigos! Unámonos para celebrar la vida\, la comunidad y el amor de Jesús!
URL:https://vcsm.org/event/vida-sunday-4/
LOCATION:CA
CATEGORIES:All Church,BeEmpowered,Español,Families,Kids,Live Up,Married Couples,Men,Safari Kids,Women,Young Adults,Youth
END:VEVENT
BEGIN:VEVENT
DTSTART;TZID=America/Los_Angeles:20260208T150000
DTEND;TZID=America/Los_Angeles:20260208T190000
DTSTAMP:20260425T063418
CREATED:20260204T234308Z
LAST-MODIFIED:20260204T234308Z
UID:10027716-1770562800-1770577200@vcsm.org
SUMMARY:Super Bowl Party 🏈
DESCRIPTION:Join us for an afternoon of fun\, food\, and fellowship! Whether you’re cheering for the Seahawks\, the Patriots\, or just coming for the community\, everyone is welcome. Doors open at 3PM with kickoff at 3:30PM. \nThis is a potluck-style event\, so be sure to bring your favorite game-day dish to share. The church will provide drinks and nachos\, and one of our church members will also be serving delicious tri-tip sliders\, so come hungry! \nPlus\, don’t forget to enter our Annual Salsa Competition 🌶️🔥 Whether your salsa is spicy\, mild\, or somewhere in between\, bring it to the church before kickoff for a chance to win the grand trophy🏆 and more. It’s going to be a great evening—invite someone and come enjoy a night of fun\, food\, and fellowship!
URL:https://vcsm.org/event/super-bowl-party-%f0%9f%8f%88/
LOCATION:Vida Church\, 709 N. Curryer St.\, Santa Maria\, CA\, 93458\, United States
CATEGORIES:All Church,Español,Families,Kids,Live Up,Married Couples,Men,Safari Kids,Women,Young Adults,Youth
ATTACH;FMTTYPE=image/jpeg:https://vcsm.org/wp-content/uploads/2026/02/Super-Bowl-Graphic-scaled.jpg
END:VEVENT
BEGIN:VEVENT
DTSTART;TZID=America/Los_Angeles:20260106T163000
DTEND;TZID=America/Los_Angeles:20260106T193000
DTSTAMP:20260425T063418
CREATED:20260102T203944Z
LAST-MODIFIED:20260102T203944Z
UID:10027651-1767717000-1767727800@vcsm.org
SUMMARY:Three Kings Day | Día de Reyes
DESCRIPTION:Three Kings’ Day is a tradition that celebrates the journey of the Wise Men who followed the star to worship baby Jesus. It’s a special reminder that Jesus is God’s greatest gift to the world—and we’re excited to bring that celebration to our community! \nJoin us for a fun\, family-friendly event\, from 4:30PM-7:30PM\, where we’ll share the story of the three kings\, along with plenty of activities for all ages. Enjoy photo opportunities with the three kings\, delicious rosca de reyes bread\, hot chocolate\, popcorn\, and so much more. There will also be games\, raffles\, and interactive booths to make the day even more memorable. \nEverything is completely FREE\, and we’d love for you to be part of this joyful celebration! Please note that every child must be accompanied by an adult. Come celebrate\, connect\, and share in the gift of Jesus with your neighbors and friends.
URL:https://vcsm.org/event/three-kings-day-dia-de-reyes/
LOCATION:Vida Church\, 709 N. Curryer St.\, Santa Maria\, CA\, 93458\, United States
CATEGORIES:Español,Families,Kids,Live Up,Safari Kids,Youth
END:VEVENT
BEGIN:VEVENT
DTSTART;TZID=America/Los_Angeles:20251221T163000
DTEND;TZID=America/Los_Angeles:20251221T193000
DTSTAMP:20260425T063418
CREATED:20251203T195515Z
LAST-MODIFIED:20251203T195515Z
UID:10027643-1766334600-1766345400@vcsm.org
SUMMARY:Safari Kids Family Christmas Party
DESCRIPTION:All kids\, birth through 6th grade\, are invited to bring their families to a movie party at the Regal Movie Theatre in the Town Center Mall at 4:50PM for a showing of “David”\, a new cartoon based on the life of King David! Sign-ups for free tickets begin Sunday\, December 7\, in the Courtyard.
URL:https://vcsm.org/event/safari-kids-family-christmas-party/
LOCATION:Regal Edwards Santa Maria & RPX\, Town Center East\, Santa Maria\, CA\, 93454\, United States
CATEGORIES:Families,Kids,Safari Kids
GEO:34.9501953;-120.4352034
X-APPLE-STRUCTURED-LOCATION;VALUE=URI;X-ADDRESS=Regal Edwards Santa Maria & RPX Town Center East Santa Maria CA 93454 United States;X-APPLE-RADIUS=500;X-TITLE=Town Center East:geo:-120.4352034,34.9501953
END:VEVENT
BEGIN:VEVENT
DTSTART;TZID=America/Los_Angeles:20251214T093000
DTEND;TZID=America/Los_Angeles:20251214T133000
DTSTAMP:20260425T063418
CREATED:20251203T195826Z
LAST-MODIFIED:20251203T195826Z
UID:10027644-1765704600-1765719000@vcsm.org
SUMMARY:Christmas Culture Sunday
DESCRIPTION:We’re celebrating the different cultures that make us Vida Church with ONE combined service at 9:30AM. Then\, after service\, we’ll continue the celebration in the gym with a shared meal YOU (and others!) will be providing! We’re asking that you please bring a dish to share\, that represents the culture you grew up with at Christmas time. The church is providing pans for you to take home and return on December 14\, with your dish. Drop off your dish on Sunday\, December 14\, at the Info Counter.
URL:https://vcsm.org/event/christmas-culture-sunday/
LOCATION:Vida Church\, 709 N. Curryer St.\, Santa Maria\, CA\, 93458\, United States
CATEGORIES:260 Group,All Church,BeEmpowered,Español,Families,Kids,Live Up,Married Couples,Men,Safari Kids,Women,Young Adults,Youth
END:VEVENT
BEGIN:VEVENT
DTSTART;TZID=America/Los_Angeles:20251012T180000
DTEND;TZID=America/Los_Angeles:20251012T193000
DTSTAMP:20260425T063418
CREATED:20250107T214208Z
LAST-MODIFIED:20250107T214208Z
UID:10023881-1760292000-1760297400@vcsm.org
SUMMARY:Night of Worship
DESCRIPTION:Join us for a Worship Night at 6:00pm. Come and be a part of an evening filled with powerful praise and worship. This night will be dedicated specifically to worship through song with a time of prayer and ministry. This will be a special night with an opportunity to reflect\, connect with others\, and experience renewal in God’s presence. Bring an open heart and prepare for a meaningful night. Don’t miss this opportunity to deepen your faith!
URL:https://vcsm.org/event/night-of-worship-2/
LOCATION:Santa Maria Foursquare Church\, 709 N. Curryer St.\, Santa Maria\, CA\, 93458\, United States
CATEGORIES:All Church,BeEmpowered,Español,Families,Kids,Live Up,Married Couples,Men,Safari Kids,Women,Youth
GEO:34.9596079;-120.4419292
X-APPLE-STRUCTURED-LOCATION;VALUE=URI;X-ADDRESS=Santa Maria Foursquare Church 709 N. Curryer St. Santa Maria CA 93458 United States;X-APPLE-RADIUS=500;X-TITLE=709 N. Curryer St.:geo:-120.4419292,34.9596079
END:VEVENT
BEGIN:VEVENT
DTSTART;TZID=America/Los_Angeles:20250708T080000
DTEND;TZID=America/Los_Angeles:20250711T170000
DTSTAMP:20260425T063418
CREATED:20250107T213241Z
LAST-MODIFIED:20250107T213241Z
UID:10023879-1751961600-1752253200@vcsm.org
SUMMARY:Kids Summer Camp
DESCRIPTION:On Tuesday\, July 8 through Friday\, July 11\, Safari Kids are heading to Summer Camp at Camp Cedar Crest! This exciting camp is open to all students entering 3rd through 6th grade. \nRegistration packets\, along with information about payment\, fees\, and fundraising opportunities\, were distributed in the children’s classrooms and were available at the Info Counter for the entire month of March and April. Registration packets are due Sunday\, May 4\, 2025. \nLet’s join together in prayer for our amazing kids and leaders — that they would have an incredible time encountering Jesus\, building friendships\, and growing in their faith.
URL:https://vcsm.org/event/kids-summer-camp/
LOCATION:Camp Cedar Crest\, 33325 Camp Cedar Crest Rd\, Green Valley Lake\, California\, 92341
CATEGORIES:Kids,Safari Kids
GEO:34.2235163;-117.08319
X-APPLE-STRUCTURED-LOCATION;VALUE=URI;X-ADDRESS=Camp Cedar Crest 33325 Camp Cedar Crest Rd Green Valley Lake California 92341;X-APPLE-RADIUS=500;X-TITLE=33325 Camp Cedar Crest Rd:geo:-117.08319,34.2235163
END:VEVENT
BEGIN:VEVENT
DTSTART;TZID=America/Los_Angeles:20250614T100000
DTEND;TZID=America/Los_Angeles:20250614T140000
DTSTAMP:20260425T063418
CREATED:20250521T235521Z
LAST-MODIFIED:20250521T235521Z
UID:10024794-1749895200-1749909600@vcsm.org
SUMMARY:Car Wash Fundraiser
DESCRIPTION:Join us on Saturday\, June 14 in our corner parking lot for a special event hosted by our Safari Kids and Live Up Youth. Our students have been raising money by collecting sponsors for every car they wash — which means you get a sparkling clean car for FREE! It’s the perfect opportunity to bring your dad and get his car washed just in time for Father’s Day weekend. They’ll be out there starting at 10:00 AM\, and they won’t stop until they’ve washed 100 cars! So bring your car… your neighbor’s car… your grandma’s car — and help support our awesome kids and youth!
URL:https://vcsm.org/event/car-wash-fundraiser/
LOCATION:Santa Maria Foursquare Church\, 709 N. Curryer St.\, Santa Maria\, CA\, 93458\, United States
CATEGORIES:Kids,Live Up,Safari Kids,Youth
GEO:34.9596079;-120.4419292
X-APPLE-STRUCTURED-LOCATION;VALUE=URI;X-ADDRESS=Santa Maria Foursquare Church 709 N. Curryer St. Santa Maria CA 93458 United States;X-APPLE-RADIUS=500;X-TITLE=709 N. Curryer St.:geo:-120.4419292,34.9596079
END:VEVENT
END:VCALENDAR