BEGIN:VCALENDAR
VERSION:2.0
PRODID:-//Vida Church Santa Maria - ECPv6.15.20//NONSGML v1.0//EN
CALSCALE:GREGORIAN
METHOD:PUBLISH
X-ORIGINAL-URL:https://vcsm.org
X-WR-CALDESC:Events for Vida Church Santa Maria
REFRESH-INTERVAL;VALUE=DURATION:PT1H
X-Robots-Tag:noindex
X-PUBLISHED-TTL:PT1H
BEGIN:VTIMEZONE
TZID:America/Los_Angeles
BEGIN:DAYLIGHT
TZOFFSETFROM:-0800
TZOFFSETTO:-0700
TZNAME:PDT
DTSTART:20250309T100000
END:DAYLIGHT
BEGIN:STANDARD
TZOFFSETFROM:-0700
TZOFFSETTO:-0800
TZNAME:PST
DTSTART:20251102T090000
END:STANDARD
BEGIN:DAYLIGHT
TZOFFSETFROM:-0800
TZOFFSETTO:-0700
TZNAME:PDT
DTSTART:20260308T100000
END:DAYLIGHT
BEGIN:STANDARD
TZOFFSETFROM:-0700
TZOFFSETTO:-0800
TZNAME:PST
DTSTART:20261101T090000
END:STANDARD
BEGIN:DAYLIGHT
TZOFFSETFROM:-0800
TZOFFSETTO:-0700
TZNAME:PDT
DTSTART:20270314T100000
END:DAYLIGHT
BEGIN:STANDARD
TZOFFSETFROM:-0700
TZOFFSETTO:-0800
TZNAME:PST
DTSTART:20271107T090000
END:STANDARD
END:VTIMEZONE
BEGIN:VEVENT
DTSTART;TZID=America/Los_Angeles:20260422T180000
DTEND;TZID=America/Los_Angeles:20260422T200000
DTSTAMP:20260423T032922
CREATED:20260325T175850Z
LAST-MODIFIED:20260325T180905Z
UID:10027913-1776880800-1776888000@vcsm.org
SUMMARY:Wednesday Sessions
DESCRIPTION:We’re restarting our Wednesday Sessions! Wednesday sessions are classes designed to help us continue growing in faith together. These FREE 8-week sessions start on Wednesday\, April 15 to Wednesday\, June 3 from 6–8 PM. Dinner and childcare are included for newborns through high school students. This session features the course: “Formation: Building My Life on Christ.” Register at the Info Counter in the courtyard on Sunday to reserve your spot.
URL:https://vcsm.org/event/wednesday-sessions/2026-04-22/
LOCATION:Vida Church\, 709 N. Curryer St.\, Santa Maria\, CA\, 93458\, United States
CATEGORIES:260 Group,All Church,BeEmpowered,Español,Families,Kids,Live Up,Married Couples,Men,Safari Kids,Women,Young Adults,Youth
ATTACH;FMTTYPE=image/jpeg:https://vcsm.org/wp-content/uploads/2026/03/Wednesday-Sessions-2026-scaled.jpg
END:VEVENT
BEGIN:VEVENT
DTSTART;TZID=America/Los_Angeles:20260422T180000
DTEND;TZID=America/Los_Angeles:20260422T200000
DTSTAMP:20260423T032922
CREATED:20260325T180826Z
LAST-MODIFIED:20260325T180826Z
UID:10027852-1776880800-1776888000@vcsm.org
SUMMARY:Sesiones los Miércoles
DESCRIPTION:Reiniciamos nuestras Sesiones de los Miércoles! Las sesiones de los miércoles son clases diseñadas para ayudarnos a seguir creciendo juntos en la fe. Estas sesiones GRATUITAS de 9 semanas comienzan el Miércoles 15 de Abril y terminan el Miércoles 10 de junio\, de 6PM a 8PM. Incluye cena y cuidado de niños desde recién nacidos hasta estudiantes de la secundaria. En esta sesión presentamos el curso: “Formación: Construyendo mi vida en Cristo”. Regístrate en la Mesa de Información en el patio el domingo para reservar tu lugar.
URL:https://vcsm.org/event/sesiones-los-miercoles/2026-04-22/
LOCATION:Vida Church\, 709 N. Curryer St.\, Santa Maria\, CA\, 93458\, United States
CATEGORIES:All Church,Español,Kids,Live Up,Safari Kids,Young Adults,Youth
ATTACH;FMTTYPE=image/jpeg:https://vcsm.org/wp-content/uploads/2026/03/Sesiones-los-Miercoles-2026-scaled.jpg
END:VEVENT
END:VCALENDAR