BEGIN:VCALENDAR
VERSION:2.0
PRODID:-//Vida Church Santa Maria - ECPv6.15.20//NONSGML v1.0//EN
CALSCALE:GREGORIAN
METHOD:PUBLISH
X-WR-CALNAME:Vida Church Santa Maria
X-ORIGINAL-URL:https://vcsm.org
X-WR-CALDESC:Events for Vida Church Santa Maria
REFRESH-INTERVAL;VALUE=DURATION:PT1H
X-Robots-Tag:noindex
X-PUBLISHED-TTL:PT1H
BEGIN:VTIMEZONE
TZID:America/Los_Angeles
BEGIN:DAYLIGHT
TZOFFSETFROM:-0800
TZOFFSETTO:-0700
TZNAME:PDT
DTSTART:20250309T100000
END:DAYLIGHT
BEGIN:STANDARD
TZOFFSETFROM:-0700
TZOFFSETTO:-0800
TZNAME:PST
DTSTART:20251102T090000
END:STANDARD
BEGIN:DAYLIGHT
TZOFFSETFROM:-0800
TZOFFSETTO:-0700
TZNAME:PDT
DTSTART:20260308T100000
END:DAYLIGHT
BEGIN:STANDARD
TZOFFSETFROM:-0700
TZOFFSETTO:-0800
TZNAME:PST
DTSTART:20261101T090000
END:STANDARD
BEGIN:DAYLIGHT
TZOFFSETFROM:-0800
TZOFFSETTO:-0700
TZNAME:PDT
DTSTART:20270314T100000
END:DAYLIGHT
BEGIN:STANDARD
TZOFFSETFROM:-0700
TZOFFSETTO:-0800
TZNAME:PST
DTSTART:20271107T090000
END:STANDARD
END:VTIMEZONE
BEGIN:VEVENT
DTSTART;TZID=America/Los_Angeles:20260423T090000
DTEND;TZID=America/Los_Angeles:20260423T100000
DTSTAMP:20260423T014620
CREATED:20240612T171611Z
LAST-MODIFIED:20251203T201451Z
UID:10023376-1776934800-1776938400@vcsm.org
SUMMARY:Grupo 260 – Mujeres
DESCRIPTION:¡Únete a nosotros para discutir nuestra lectura bíblica 260! HAZ CLIC AQUÍ para obtener más información sobre el plan 260\, incluyendo un plan de lectura bíblica descargable. \nTenemos varios grupos 260 para elegir. Este grupo esta abierto específicamente para mujeres y está dirigido por Rose Podsednik. Nos reunimos cada jueves a las 9am en la casa de Rose. No es necesario registrarte\, ¡solo únete con nosotros! Para obtener más detalles o preguntas\, HAZ CLIC AQUÍ.
URL:https://vcsm.org/event/grupo-260-mujeres-7-2/2026-04-23/
END:VEVENT
BEGIN:VEVENT
DTSTART;TZID=America/Los_Angeles:20260430T090000
DTEND;TZID=America/Los_Angeles:20260430T100000
DTSTAMP:20260423T014620
CREATED:20240612T171611Z
LAST-MODIFIED:20251203T201451Z
UID:10023377-1777539600-1777543200@vcsm.org
SUMMARY:Grupo 260 – Mujeres
DESCRIPTION:¡Únete a nosotros para discutir nuestra lectura bíblica 260! HAZ CLIC AQUÍ para obtener más información sobre el plan 260\, incluyendo un plan de lectura bíblica descargable. \nTenemos varios grupos 260 para elegir. Este grupo esta abierto específicamente para mujeres y está dirigido por Rose Podsednik. Nos reunimos cada jueves a las 9am en la casa de Rose. No es necesario registrarte\, ¡solo únete con nosotros! Para obtener más detalles o preguntas\, HAZ CLIC AQUÍ.
URL:https://vcsm.org/event/grupo-260-mujeres-7-2/2026-04-30/
END:VEVENT
BEGIN:VEVENT
DTSTART;TZID=America/Los_Angeles:20260507T090000
DTEND;TZID=America/Los_Angeles:20260507T100000
DTSTAMP:20260423T014620
CREATED:20240612T171611Z
LAST-MODIFIED:20251203T201451Z
UID:10023378-1778144400-1778148000@vcsm.org
SUMMARY:Grupo 260 – Mujeres
DESCRIPTION:¡Únete a nosotros para discutir nuestra lectura bíblica 260! HAZ CLIC AQUÍ para obtener más información sobre el plan 260\, incluyendo un plan de lectura bíblica descargable. \nTenemos varios grupos 260 para elegir. Este grupo esta abierto específicamente para mujeres y está dirigido por Rose Podsednik. Nos reunimos cada jueves a las 9am en la casa de Rose. No es necesario registrarte\, ¡solo únete con nosotros! Para obtener más detalles o preguntas\, HAZ CLIC AQUÍ.
URL:https://vcsm.org/event/grupo-260-mujeres-7-2/2026-05-07/
END:VEVENT
BEGIN:VEVENT
DTSTART;TZID=America/Los_Angeles:20260514T090000
DTEND;TZID=America/Los_Angeles:20260514T100000
DTSTAMP:20260423T014620
CREATED:20240612T171611Z
LAST-MODIFIED:20251203T201451Z
UID:10023379-1778749200-1778752800@vcsm.org
SUMMARY:Grupo 260 – Mujeres
DESCRIPTION:¡Únete a nosotros para discutir nuestra lectura bíblica 260! HAZ CLIC AQUÍ para obtener más información sobre el plan 260\, incluyendo un plan de lectura bíblica descargable. \nTenemos varios grupos 260 para elegir. Este grupo esta abierto específicamente para mujeres y está dirigido por Rose Podsednik. Nos reunimos cada jueves a las 9am en la casa de Rose. No es necesario registrarte\, ¡solo únete con nosotros! Para obtener más detalles o preguntas\, HAZ CLIC AQUÍ.
URL:https://vcsm.org/event/grupo-260-mujeres-7-2/2026-05-14/
END:VEVENT
BEGIN:VEVENT
DTSTART;TZID=America/Los_Angeles:20260521T090000
DTEND;TZID=America/Los_Angeles:20260521T100000
DTSTAMP:20260423T014620
CREATED:20240612T171611Z
LAST-MODIFIED:20251203T201451Z
UID:10023380-1779354000-1779357600@vcsm.org
SUMMARY:Grupo 260 – Mujeres
DESCRIPTION:¡Únete a nosotros para discutir nuestra lectura bíblica 260! HAZ CLIC AQUÍ para obtener más información sobre el plan 260\, incluyendo un plan de lectura bíblica descargable. \nTenemos varios grupos 260 para elegir. Este grupo esta abierto específicamente para mujeres y está dirigido por Rose Podsednik. Nos reunimos cada jueves a las 9am en la casa de Rose. No es necesario registrarte\, ¡solo únete con nosotros! Para obtener más detalles o preguntas\, HAZ CLIC AQUÍ.
URL:https://vcsm.org/event/grupo-260-mujeres-7-2/2026-05-21/
END:VEVENT
BEGIN:VEVENT
DTSTART;TZID=America/Los_Angeles:20260528T090000
DTEND;TZID=America/Los_Angeles:20260528T100000
DTSTAMP:20260423T014620
CREATED:20240612T171611Z
LAST-MODIFIED:20251203T201451Z
UID:10023381-1779958800-1779962400@vcsm.org
SUMMARY:Grupo 260 – Mujeres
DESCRIPTION:¡Únete a nosotros para discutir nuestra lectura bíblica 260! HAZ CLIC AQUÍ para obtener más información sobre el plan 260\, incluyendo un plan de lectura bíblica descargable. \nTenemos varios grupos 260 para elegir. Este grupo esta abierto específicamente para mujeres y está dirigido por Rose Podsednik. Nos reunimos cada jueves a las 9am en la casa de Rose. No es necesario registrarte\, ¡solo únete con nosotros! Para obtener más detalles o preguntas\, HAZ CLIC AQUÍ.
URL:https://vcsm.org/event/grupo-260-mujeres-7-2/2026-05-28/
END:VEVENT
BEGIN:VEVENT
DTSTART;TZID=America/Los_Angeles:20260604T090000
DTEND;TZID=America/Los_Angeles:20260604T100000
DTSTAMP:20260423T014620
CREATED:20240612T171611Z
LAST-MODIFIED:20251203T201451Z
UID:10023382-1780563600-1780567200@vcsm.org
SUMMARY:Grupo 260 – Mujeres
DESCRIPTION:¡Únete a nosotros para discutir nuestra lectura bíblica 260! HAZ CLIC AQUÍ para obtener más información sobre el plan 260\, incluyendo un plan de lectura bíblica descargable. \nTenemos varios grupos 260 para elegir. Este grupo esta abierto específicamente para mujeres y está dirigido por Rose Podsednik. Nos reunimos cada jueves a las 9am en la casa de Rose. No es necesario registrarte\, ¡solo únete con nosotros! Para obtener más detalles o preguntas\, HAZ CLIC AQUÍ.
URL:https://vcsm.org/event/grupo-260-mujeres-7-2/2026-06-04/
END:VEVENT
BEGIN:VEVENT
DTSTART;TZID=America/Los_Angeles:20260611T090000
DTEND;TZID=America/Los_Angeles:20260611T100000
DTSTAMP:20260423T014620
CREATED:20240612T171611Z
LAST-MODIFIED:20251203T201451Z
UID:10023383-1781168400-1781172000@vcsm.org
SUMMARY:Grupo 260 – Mujeres
DESCRIPTION:¡Únete a nosotros para discutir nuestra lectura bíblica 260! HAZ CLIC AQUÍ para obtener más información sobre el plan 260\, incluyendo un plan de lectura bíblica descargable. \nTenemos varios grupos 260 para elegir. Este grupo esta abierto específicamente para mujeres y está dirigido por Rose Podsednik. Nos reunimos cada jueves a las 9am en la casa de Rose. No es necesario registrarte\, ¡solo únete con nosotros! Para obtener más detalles o preguntas\, HAZ CLIC AQUÍ.
URL:https://vcsm.org/event/grupo-260-mujeres-7-2/2026-06-11/
END:VEVENT
BEGIN:VEVENT
DTSTART;TZID=America/Los_Angeles:20260618T090000
DTEND;TZID=America/Los_Angeles:20260618T100000
DTSTAMP:20260423T014620
CREATED:20240612T171611Z
LAST-MODIFIED:20251203T201451Z
UID:10023384-1781773200-1781776800@vcsm.org
SUMMARY:Grupo 260 – Mujeres
DESCRIPTION:¡Únete a nosotros para discutir nuestra lectura bíblica 260! HAZ CLIC AQUÍ para obtener más información sobre el plan 260\, incluyendo un plan de lectura bíblica descargable. \nTenemos varios grupos 260 para elegir. Este grupo esta abierto específicamente para mujeres y está dirigido por Rose Podsednik. Nos reunimos cada jueves a las 9am en la casa de Rose. No es necesario registrarte\, ¡solo únete con nosotros! Para obtener más detalles o preguntas\, HAZ CLIC AQUÍ.
URL:https://vcsm.org/event/grupo-260-mujeres-7-2/2026-06-18/
END:VEVENT
BEGIN:VEVENT
DTSTART;TZID=America/Los_Angeles:20260625T090000
DTEND;TZID=America/Los_Angeles:20260625T100000
DTSTAMP:20260423T014620
CREATED:20240612T171611Z
LAST-MODIFIED:20251203T201451Z
UID:10023385-1782378000-1782381600@vcsm.org
SUMMARY:Grupo 260 – Mujeres
DESCRIPTION:¡Únete a nosotros para discutir nuestra lectura bíblica 260! HAZ CLIC AQUÍ para obtener más información sobre el plan 260\, incluyendo un plan de lectura bíblica descargable. \nTenemos varios grupos 260 para elegir. Este grupo esta abierto específicamente para mujeres y está dirigido por Rose Podsednik. Nos reunimos cada jueves a las 9am en la casa de Rose. No es necesario registrarte\, ¡solo únete con nosotros! Para obtener más detalles o preguntas\, HAZ CLIC AQUÍ.
URL:https://vcsm.org/event/grupo-260-mujeres-7-2/2026-06-25/
END:VEVENT
BEGIN:VEVENT
DTSTART;TZID=America/Los_Angeles:20260702T090000
DTEND;TZID=America/Los_Angeles:20260702T100000
DTSTAMP:20260423T014620
CREATED:20240612T171611Z
LAST-MODIFIED:20251203T201451Z
UID:10023386-1782982800-1782986400@vcsm.org
SUMMARY:Grupo 260 – Mujeres
DESCRIPTION:¡Únete a nosotros para discutir nuestra lectura bíblica 260! HAZ CLIC AQUÍ para obtener más información sobre el plan 260\, incluyendo un plan de lectura bíblica descargable. \nTenemos varios grupos 260 para elegir. Este grupo esta abierto específicamente para mujeres y está dirigido por Rose Podsednik. Nos reunimos cada jueves a las 9am en la casa de Rose. No es necesario registrarte\, ¡solo únete con nosotros! Para obtener más detalles o preguntas\, HAZ CLIC AQUÍ.
URL:https://vcsm.org/event/grupo-260-mujeres-7-2/2026-07-02/
END:VEVENT
BEGIN:VEVENT
DTSTART;TZID=America/Los_Angeles:20260709T090000
DTEND;TZID=America/Los_Angeles:20260709T100000
DTSTAMP:20260423T014620
CREATED:20240612T171611Z
LAST-MODIFIED:20251203T201451Z
UID:10023387-1783587600-1783591200@vcsm.org
SUMMARY:Grupo 260 – Mujeres
DESCRIPTION:¡Únete a nosotros para discutir nuestra lectura bíblica 260! HAZ CLIC AQUÍ para obtener más información sobre el plan 260\, incluyendo un plan de lectura bíblica descargable. \nTenemos varios grupos 260 para elegir. Este grupo esta abierto específicamente para mujeres y está dirigido por Rose Podsednik. Nos reunimos cada jueves a las 9am en la casa de Rose. No es necesario registrarte\, ¡solo únete con nosotros! Para obtener más detalles o preguntas\, HAZ CLIC AQUÍ.
URL:https://vcsm.org/event/grupo-260-mujeres-7-2/2026-07-09/
END:VEVENT
BEGIN:VEVENT
DTSTART;TZID=America/Los_Angeles:20260716T090000
DTEND;TZID=America/Los_Angeles:20260716T100000
DTSTAMP:20260423T014620
CREATED:20240612T171611Z
LAST-MODIFIED:20251203T201451Z
UID:10023388-1784192400-1784196000@vcsm.org
SUMMARY:Grupo 260 – Mujeres
DESCRIPTION:¡Únete a nosotros para discutir nuestra lectura bíblica 260! HAZ CLIC AQUÍ para obtener más información sobre el plan 260\, incluyendo un plan de lectura bíblica descargable. \nTenemos varios grupos 260 para elegir. Este grupo esta abierto específicamente para mujeres y está dirigido por Rose Podsednik. Nos reunimos cada jueves a las 9am en la casa de Rose. No es necesario registrarte\, ¡solo únete con nosotros! Para obtener más detalles o preguntas\, HAZ CLIC AQUÍ.
URL:https://vcsm.org/event/grupo-260-mujeres-7-2/2026-07-16/
END:VEVENT
BEGIN:VEVENT
DTSTART;TZID=America/Los_Angeles:20260723T090000
DTEND;TZID=America/Los_Angeles:20260723T100000
DTSTAMP:20260423T014620
CREATED:20240612T171611Z
LAST-MODIFIED:20251203T201451Z
UID:10023389-1784797200-1784800800@vcsm.org
SUMMARY:Grupo 260 – Mujeres
DESCRIPTION:¡Únete a nosotros para discutir nuestra lectura bíblica 260! HAZ CLIC AQUÍ para obtener más información sobre el plan 260\, incluyendo un plan de lectura bíblica descargable. \nTenemos varios grupos 260 para elegir. Este grupo esta abierto específicamente para mujeres y está dirigido por Rose Podsednik. Nos reunimos cada jueves a las 9am en la casa de Rose. No es necesario registrarte\, ¡solo únete con nosotros! Para obtener más detalles o preguntas\, HAZ CLIC AQUÍ.
URL:https://vcsm.org/event/grupo-260-mujeres-7-2/2026-07-23/
END:VEVENT
BEGIN:VEVENT
DTSTART;TZID=America/Los_Angeles:20260730T090000
DTEND;TZID=America/Los_Angeles:20260730T100000
DTSTAMP:20260423T014620
CREATED:20240612T171611Z
LAST-MODIFIED:20251203T201451Z
UID:10023390-1785402000-1785405600@vcsm.org
SUMMARY:Grupo 260 – Mujeres
DESCRIPTION:¡Únete a nosotros para discutir nuestra lectura bíblica 260! HAZ CLIC AQUÍ para obtener más información sobre el plan 260\, incluyendo un plan de lectura bíblica descargable. \nTenemos varios grupos 260 para elegir. Este grupo esta abierto específicamente para mujeres y está dirigido por Rose Podsednik. Nos reunimos cada jueves a las 9am en la casa de Rose. No es necesario registrarte\, ¡solo únete con nosotros! Para obtener más detalles o preguntas\, HAZ CLIC AQUÍ.
URL:https://vcsm.org/event/grupo-260-mujeres-7-2/2026-07-30/
END:VEVENT
BEGIN:VEVENT
DTSTART;TZID=America/Los_Angeles:20260806T090000
DTEND;TZID=America/Los_Angeles:20260806T100000
DTSTAMP:20260423T014620
CREATED:20240612T171611Z
LAST-MODIFIED:20251203T201451Z
UID:10023391-1786006800-1786010400@vcsm.org
SUMMARY:Grupo 260 – Mujeres
DESCRIPTION:¡Únete a nosotros para discutir nuestra lectura bíblica 260! HAZ CLIC AQUÍ para obtener más información sobre el plan 260\, incluyendo un plan de lectura bíblica descargable. \nTenemos varios grupos 260 para elegir. Este grupo esta abierto específicamente para mujeres y está dirigido por Rose Podsednik. Nos reunimos cada jueves a las 9am en la casa de Rose. No es necesario registrarte\, ¡solo únete con nosotros! Para obtener más detalles o preguntas\, HAZ CLIC AQUÍ.
URL:https://vcsm.org/event/grupo-260-mujeres-7-2/2026-08-06/
END:VEVENT
BEGIN:VEVENT
DTSTART;TZID=America/Los_Angeles:20260813T090000
DTEND;TZID=America/Los_Angeles:20260813T100000
DTSTAMP:20260423T014620
CREATED:20240612T171611Z
LAST-MODIFIED:20251203T201451Z
UID:10023392-1786611600-1786615200@vcsm.org
SUMMARY:Grupo 260 – Mujeres
DESCRIPTION:¡Únete a nosotros para discutir nuestra lectura bíblica 260! HAZ CLIC AQUÍ para obtener más información sobre el plan 260\, incluyendo un plan de lectura bíblica descargable. \nTenemos varios grupos 260 para elegir. Este grupo esta abierto específicamente para mujeres y está dirigido por Rose Podsednik. Nos reunimos cada jueves a las 9am en la casa de Rose. No es necesario registrarte\, ¡solo únete con nosotros! Para obtener más detalles o preguntas\, HAZ CLIC AQUÍ.
URL:https://vcsm.org/event/grupo-260-mujeres-7-2/2026-08-13/
END:VEVENT
BEGIN:VEVENT
DTSTART;TZID=America/Los_Angeles:20260820T090000
DTEND;TZID=America/Los_Angeles:20260820T100000
DTSTAMP:20260423T014620
CREATED:20240612T171611Z
LAST-MODIFIED:20251203T201451Z
UID:10023393-1787216400-1787220000@vcsm.org
SUMMARY:Grupo 260 – Mujeres
DESCRIPTION:¡Únete a nosotros para discutir nuestra lectura bíblica 260! HAZ CLIC AQUÍ para obtener más información sobre el plan 260\, incluyendo un plan de lectura bíblica descargable. \nTenemos varios grupos 260 para elegir. Este grupo esta abierto específicamente para mujeres y está dirigido por Rose Podsednik. Nos reunimos cada jueves a las 9am en la casa de Rose. No es necesario registrarte\, ¡solo únete con nosotros! Para obtener más detalles o preguntas\, HAZ CLIC AQUÍ.
URL:https://vcsm.org/event/grupo-260-mujeres-7-2/2026-08-20/
END:VEVENT
BEGIN:VEVENT
DTSTART;TZID=America/Los_Angeles:20260827T090000
DTEND;TZID=America/Los_Angeles:20260827T100000
DTSTAMP:20260423T014620
CREATED:20240612T171611Z
LAST-MODIFIED:20251203T201451Z
UID:10023394-1787821200-1787824800@vcsm.org
SUMMARY:Grupo 260 – Mujeres
DESCRIPTION:¡Únete a nosotros para discutir nuestra lectura bíblica 260! HAZ CLIC AQUÍ para obtener más información sobre el plan 260\, incluyendo un plan de lectura bíblica descargable. \nTenemos varios grupos 260 para elegir. Este grupo esta abierto específicamente para mujeres y está dirigido por Rose Podsednik. Nos reunimos cada jueves a las 9am en la casa de Rose. No es necesario registrarte\, ¡solo únete con nosotros! Para obtener más detalles o preguntas\, HAZ CLIC AQUÍ.
URL:https://vcsm.org/event/grupo-260-mujeres-7-2/2026-08-27/
END:VEVENT
BEGIN:VEVENT
DTSTART;TZID=America/Los_Angeles:20260903T090000
DTEND;TZID=America/Los_Angeles:20260903T100000
DTSTAMP:20260423T014620
CREATED:20240612T171611Z
LAST-MODIFIED:20251203T201451Z
UID:10023395-1788426000-1788429600@vcsm.org
SUMMARY:Grupo 260 – Mujeres
DESCRIPTION:¡Únete a nosotros para discutir nuestra lectura bíblica 260! HAZ CLIC AQUÍ para obtener más información sobre el plan 260\, incluyendo un plan de lectura bíblica descargable. \nTenemos varios grupos 260 para elegir. Este grupo esta abierto específicamente para mujeres y está dirigido por Rose Podsednik. Nos reunimos cada jueves a las 9am en la casa de Rose. No es necesario registrarte\, ¡solo únete con nosotros! Para obtener más detalles o preguntas\, HAZ CLIC AQUÍ.
URL:https://vcsm.org/event/grupo-260-mujeres-7-2/2026-09-03/
END:VEVENT
BEGIN:VEVENT
DTSTART;TZID=America/Los_Angeles:20260910T090000
DTEND;TZID=America/Los_Angeles:20260910T100000
DTSTAMP:20260423T014620
CREATED:20240612T171611Z
LAST-MODIFIED:20251203T201451Z
UID:10023396-1789030800-1789034400@vcsm.org
SUMMARY:Grupo 260 – Mujeres
DESCRIPTION:¡Únete a nosotros para discutir nuestra lectura bíblica 260! HAZ CLIC AQUÍ para obtener más información sobre el plan 260\, incluyendo un plan de lectura bíblica descargable. \nTenemos varios grupos 260 para elegir. Este grupo esta abierto específicamente para mujeres y está dirigido por Rose Podsednik. Nos reunimos cada jueves a las 9am en la casa de Rose. No es necesario registrarte\, ¡solo únete con nosotros! Para obtener más detalles o preguntas\, HAZ CLIC AQUÍ.
URL:https://vcsm.org/event/grupo-260-mujeres-7-2/2026-09-10/
END:VEVENT
BEGIN:VEVENT
DTSTART;TZID=America/Los_Angeles:20260917T090000
DTEND;TZID=America/Los_Angeles:20260917T100000
DTSTAMP:20260423T014620
CREATED:20240612T171611Z
LAST-MODIFIED:20251203T201451Z
UID:10023397-1789635600-1789639200@vcsm.org
SUMMARY:Grupo 260 – Mujeres
DESCRIPTION:¡Únete a nosotros para discutir nuestra lectura bíblica 260! HAZ CLIC AQUÍ para obtener más información sobre el plan 260\, incluyendo un plan de lectura bíblica descargable. \nTenemos varios grupos 260 para elegir. Este grupo esta abierto específicamente para mujeres y está dirigido por Rose Podsednik. Nos reunimos cada jueves a las 9am en la casa de Rose. No es necesario registrarte\, ¡solo únete con nosotros! Para obtener más detalles o preguntas\, HAZ CLIC AQUÍ.
URL:https://vcsm.org/event/grupo-260-mujeres-7-2/2026-09-17/
END:VEVENT
BEGIN:VEVENT
DTSTART;TZID=America/Los_Angeles:20260924T090000
DTEND;TZID=America/Los_Angeles:20260924T100000
DTSTAMP:20260423T014620
CREATED:20240612T171611Z
LAST-MODIFIED:20251203T201451Z
UID:10023398-1790240400-1790244000@vcsm.org
SUMMARY:Grupo 260 – Mujeres
DESCRIPTION:¡Únete a nosotros para discutir nuestra lectura bíblica 260! HAZ CLIC AQUÍ para obtener más información sobre el plan 260\, incluyendo un plan de lectura bíblica descargable. \nTenemos varios grupos 260 para elegir. Este grupo esta abierto específicamente para mujeres y está dirigido por Rose Podsednik. Nos reunimos cada jueves a las 9am en la casa de Rose. No es necesario registrarte\, ¡solo únete con nosotros! Para obtener más detalles o preguntas\, HAZ CLIC AQUÍ.
URL:https://vcsm.org/event/grupo-260-mujeres-7-2/2026-09-24/
END:VEVENT
BEGIN:VEVENT
DTSTART;TZID=America/Los_Angeles:20261001T090000
DTEND;TZID=America/Los_Angeles:20261001T100000
DTSTAMP:20260423T014620
CREATED:20240612T171611Z
LAST-MODIFIED:20251203T201451Z
UID:10023399-1790845200-1790848800@vcsm.org
SUMMARY:Grupo 260 – Mujeres
DESCRIPTION:¡Únete a nosotros para discutir nuestra lectura bíblica 260! HAZ CLIC AQUÍ para obtener más información sobre el plan 260\, incluyendo un plan de lectura bíblica descargable. \nTenemos varios grupos 260 para elegir. Este grupo esta abierto específicamente para mujeres y está dirigido por Rose Podsednik. Nos reunimos cada jueves a las 9am en la casa de Rose. No es necesario registrarte\, ¡solo únete con nosotros! Para obtener más detalles o preguntas\, HAZ CLIC AQUÍ.
URL:https://vcsm.org/event/grupo-260-mujeres-7-2/2026-10-01/
END:VEVENT
BEGIN:VEVENT
DTSTART;TZID=America/Los_Angeles:20261008T090000
DTEND;TZID=America/Los_Angeles:20261008T100000
DTSTAMP:20260423T014620
CREATED:20240612T171611Z
LAST-MODIFIED:20251203T201451Z
UID:10023400-1791450000-1791453600@vcsm.org
SUMMARY:Grupo 260 – Mujeres
DESCRIPTION:¡Únete a nosotros para discutir nuestra lectura bíblica 260! HAZ CLIC AQUÍ para obtener más información sobre el plan 260\, incluyendo un plan de lectura bíblica descargable. \nTenemos varios grupos 260 para elegir. Este grupo esta abierto específicamente para mujeres y está dirigido por Rose Podsednik. Nos reunimos cada jueves a las 9am en la casa de Rose. No es necesario registrarte\, ¡solo únete con nosotros! Para obtener más detalles o preguntas\, HAZ CLIC AQUÍ.
URL:https://vcsm.org/event/grupo-260-mujeres-7-2/2026-10-08/
END:VEVENT
BEGIN:VEVENT
DTSTART;TZID=America/Los_Angeles:20261015T090000
DTEND;TZID=America/Los_Angeles:20261015T100000
DTSTAMP:20260423T014620
CREATED:20240612T171611Z
LAST-MODIFIED:20251203T201451Z
UID:10023401-1792054800-1792058400@vcsm.org
SUMMARY:Grupo 260 – Mujeres
DESCRIPTION:¡Únete a nosotros para discutir nuestra lectura bíblica 260! HAZ CLIC AQUÍ para obtener más información sobre el plan 260\, incluyendo un plan de lectura bíblica descargable. \nTenemos varios grupos 260 para elegir. Este grupo esta abierto específicamente para mujeres y está dirigido por Rose Podsednik. Nos reunimos cada jueves a las 9am en la casa de Rose. No es necesario registrarte\, ¡solo únete con nosotros! Para obtener más detalles o preguntas\, HAZ CLIC AQUÍ.
URL:https://vcsm.org/event/grupo-260-mujeres-7-2/2026-10-15/
END:VEVENT
BEGIN:VEVENT
DTSTART;TZID=America/Los_Angeles:20261022T090000
DTEND;TZID=America/Los_Angeles:20261022T100000
DTSTAMP:20260423T014620
CREATED:20240612T171611Z
LAST-MODIFIED:20251203T201451Z
UID:10023402-1792659600-1792663200@vcsm.org
SUMMARY:Grupo 260 – Mujeres
DESCRIPTION:¡Únete a nosotros para discutir nuestra lectura bíblica 260! HAZ CLIC AQUÍ para obtener más información sobre el plan 260\, incluyendo un plan de lectura bíblica descargable. \nTenemos varios grupos 260 para elegir. Este grupo esta abierto específicamente para mujeres y está dirigido por Rose Podsednik. Nos reunimos cada jueves a las 9am en la casa de Rose. No es necesario registrarte\, ¡solo únete con nosotros! Para obtener más detalles o preguntas\, HAZ CLIC AQUÍ.
URL:https://vcsm.org/event/grupo-260-mujeres-7-2/2026-10-22/
END:VEVENT
BEGIN:VEVENT
DTSTART;TZID=America/Los_Angeles:20261029T090000
DTEND;TZID=America/Los_Angeles:20261029T100000
DTSTAMP:20260423T014620
CREATED:20240612T171611Z
LAST-MODIFIED:20251203T201451Z
UID:10023403-1793264400-1793268000@vcsm.org
SUMMARY:Grupo 260 – Mujeres
DESCRIPTION:¡Únete a nosotros para discutir nuestra lectura bíblica 260! HAZ CLIC AQUÍ para obtener más información sobre el plan 260\, incluyendo un plan de lectura bíblica descargable. \nTenemos varios grupos 260 para elegir. Este grupo esta abierto específicamente para mujeres y está dirigido por Rose Podsednik. Nos reunimos cada jueves a las 9am en la casa de Rose. No es necesario registrarte\, ¡solo únete con nosotros! Para obtener más detalles o preguntas\, HAZ CLIC AQUÍ.
URL:https://vcsm.org/event/grupo-260-mujeres-7-2/2026-10-29/
END:VEVENT
BEGIN:VEVENT
DTSTART;TZID=America/Los_Angeles:20261105T090000
DTEND;TZID=America/Los_Angeles:20261105T100000
DTSTAMP:20260423T014620
CREATED:20240612T171611Z
LAST-MODIFIED:20251203T201451Z
UID:10023404-1793869200-1793872800@vcsm.org
SUMMARY:Grupo 260 – Mujeres
DESCRIPTION:¡Únete a nosotros para discutir nuestra lectura bíblica 260! HAZ CLIC AQUÍ para obtener más información sobre el plan 260\, incluyendo un plan de lectura bíblica descargable. \nTenemos varios grupos 260 para elegir. Este grupo esta abierto específicamente para mujeres y está dirigido por Rose Podsednik. Nos reunimos cada jueves a las 9am en la casa de Rose. No es necesario registrarte\, ¡solo únete con nosotros! Para obtener más detalles o preguntas\, HAZ CLIC AQUÍ.
URL:https://vcsm.org/event/grupo-260-mujeres-7-2/2026-11-05/
END:VEVENT
BEGIN:VEVENT
DTSTART;TZID=America/Los_Angeles:20261112T090000
DTEND;TZID=America/Los_Angeles:20261112T100000
DTSTAMP:20260423T014620
CREATED:20240612T171611Z
LAST-MODIFIED:20251203T201451Z
UID:10023405-1794474000-1794477600@vcsm.org
SUMMARY:Grupo 260 – Mujeres
DESCRIPTION:¡Únete a nosotros para discutir nuestra lectura bíblica 260! HAZ CLIC AQUÍ para obtener más información sobre el plan 260\, incluyendo un plan de lectura bíblica descargable. \nTenemos varios grupos 260 para elegir. Este grupo esta abierto específicamente para mujeres y está dirigido por Rose Podsednik. Nos reunimos cada jueves a las 9am en la casa de Rose. No es necesario registrarte\, ¡solo únete con nosotros! Para obtener más detalles o preguntas\, HAZ CLIC AQUÍ.
URL:https://vcsm.org/event/grupo-260-mujeres-7-2/2026-11-12/
END:VEVENT
END:VCALENDAR